BEGIN:VCALENDAR
VERSION:2.0
CALSCALE:GREGORIAN
PRODID:-//ScottDodsonDev//EN
BEGIN:VEVENT
UID:408205fd502a4e6ec90f9e95c29fc3ea@scottdodson.dev
DTSTAMP:20260423T152442Z
SUMMARY:Workday: Akenside &amp; Longcommon Triangle
DTSTART:20260815T140000Z
DTEND:20260815T150000Z
DESCRIPTION:https://www.olmstedsociety.org/events/workday-akenside-longcommon-triangle/
LOCATION:
END:VEVENT
END:VCALENDAR
