BEGIN:VCALENDAR
VERSION:2.0
CALSCALE:GREGORIAN
PRODID:-//ScottDodsonDev//EN
BEGIN:VEVENT
UID:ae62f9d7795f90f924a1fbc9de2260a2@scottdodson.dev
DTSTAMP:20260423T142859Z
SUMMARY:Workday: Indian Gardens
DTSTART:20260829T140000Z
DTEND:20260829T150000Z
DESCRIPTION:https://www.olmstedsociety.org/events/workday-indian-gardens/
LOCATION:
END:VEVENT
END:VCALENDAR
