BEGIN:VCALENDAR
VERSION:2.0
CALSCALE:GREGORIAN
PRODID:-//ScottDodsonDev//EN
BEGIN:VEVENT
UID:fb8b4500de5d9596911a1f971e294d6a@scottdodson.dev
DTSTAMP:20260421T134705Z
SUMMARY:Workday: Longcommon &amp; Downing Triange
DTSTART:20260725T140000Z
DTEND:20260725T150000Z
DESCRIPTION:https://www.olmstedsociety.org/events/workday-longcommon-downing-triange/
LOCATION:
END:VEVENT
END:VCALENDAR
