BEGIN:VCALENDAR
VERSION:2.0
CALSCALE:GREGORIAN
PRODID:-//ScottDodsonDev//EN
BEGIN:VEVENT
UID:b1b5dbf1fb7611abd443ca361fbbe04d@scottdodson.dev
DTSTAMP:20260421T121214Z
SUMMARY:Workday: Patriots Park
DTSTART:20260627T140000Z
DTEND:20260627T150000Z
DESCRIPTION:https://www.olmstedsociety.org/events/workday-patriots-park/
LOCATION:
END:VEVENT
END:VCALENDAR
